BEGIN:VCALENDAR
VERSION:2.0
PRODID:-//WAS Institute - ECPv5.8.1//NONSGML v1.0//EN
CALSCALE:GREGORIAN
METHOD:PUBLISH
X-WR-CALNAME:WAS Institute
X-ORIGINAL-URL:https://www.wasinstituteonline.com
X-WR-CALDESC:Events for WAS Institute
BEGIN:VTIMEZONE
TZID:UTC
BEGIN:STANDARD
TZOFFSETFROM:+0000
TZOFFSETTO:+0000
TZNAME:UTC
DTSTART:30000101T000000
END:STANDARD
END:VTIMEZONE
BEGIN:VEVENT
DTSTART;TZID=UTC:30000225T120000
DTEND;TZID=UTC:30000225T160000
DTSTAMP:20260421T085541
CREATED:20191216T232512Z
LAST-MODIFIED:20200705T201839Z
UID:6174-32508475200-32508489600@www.wasinstituteonline.com
SUMMARY:Visit : Golden Jubilee House
DESCRIPTION:Golden Jubilee House\, or Jubilee House\, is the presidential palace in Accra that serves as a residence and office to the President of Ghana. Jubilee House is built on the site of a building that was constructed and used for administrative purposes by the British Gold Coast Government. The previous seat of government of Ghana was Osu Castle. It was renamed Golden Jubilee House by President Nana Danquah Akuffo Addo on 29 March 2018. It has previously been known as The Flagstaff House.
URL:https://www.wasinstituteonline.com/event/visit-golden-jubilee-house/
LOCATION:The Flagstaff House\, Jubilee House\, Liberation Road\, Accra\, Accra\, Greater Accra\, Ghana
CATEGORIES:Academic,Academy,Accra,Best College In Ghana,Best Institutes In Ghana,Best School In Ghana,Best School of Languages in Ghana,Best School of Technology in Ghana,Blog,Classes,College,Course,Courses,E-Learning,Education,Education Center,Educational,Elearning,Event,Ghana,Greater Accra,Institute,Instructor,LAB,Learn,Learning,Lesson,Library,Lms,School,Student,Study,Teacher,Teaching,Training,Training Center,Tutor,University,WAS Institute,www.wasinstituteonline.com
ATTACH;FMTTYPE=image/jpeg:https://www.wasinstituteonline.com/wp-content/uploads/2019/12/rdes.jpg
ORGANIZER;CN="Mr%20Emmanuel":MAILTO:emmanuel@wasinstituteonline.com
END:VEVENT
END:VCALENDAR